BEGIN:VCALENDAR
VERSION:2.0
PRODID:-//ChamberMaster//Event Calendar 2.0//EN
METHOD:PUBLISH
X-PUBLISHED-TTL:P1H
REFRESH-INTERVAL:P1H
CALSCALE:GREGORIAN
BEGIN:VTIMEZONE
TZID:America/Chicago
BEGIN:DAYLIGHT
RRULE:FREQ=YEARLY;BYMONTH=3;BYDAY=2SU
DTSTART:20070101T000000
TZOFFSETFROM:-0600
TZOFFSETTO:-0500
TZNAME:Central Daylight Time
END:DAYLIGHT
BEGIN:STANDARD
RRULE:FREQ=YEARLY;BYMONTH=11;BYDAY=1SU
DTSTART:20070101T000000
TZOFFSETFROM:-0500
TZOFFSETTO:-0600
TZNAME:Central Standard Time
END:STANDARD
END:VTIMEZONE
BEGIN:VEVENT
DTSTART;TZID=America/Chicago:20260519T120000
DTEND;TZID=America/Chicago:20260519T140000
X-MICROSOFT-CDO-ALLDAYEVENT:FALSE
SUMMARY:In-Person CE (Mandeville) - Family Law & Property Rights: When Real Life Collides with Real Estate (2 CE Credit Hours)
DESCRIPTION:Family Law & Property Rights: When Real Life Collides with Real Estate (2hrs) - instruction by Crescent Title
X-ALT-DESC;FMTTYPE=text/html:Family Law & Property Rights: When Real Life Collides with Real Estate (2hrs) - instruction by Crescent Title
LOCATION:830 West Causeway Approach Suite 101 Mandeville LA 70471
UID:e.1749.1449605
SEQUENCE:3
DTSTAMP:20260423T120318Z
URL:https://members.nabors.org/calendar/Details/in-person-ce-mandeville-family-law-property-rights-when-real-life-collides-with-real-estate-2-ce-credit-hours-1717078?sourceTypeId=Hub
END:VEVENT
END:VCALENDAR
