BEGIN:VCALENDAR
VERSION:2.0
PRODID:-//ChamberMaster//Event Calendar 2.0//EN
METHOD:PUBLISH
X-PUBLISHED-TTL:P1H
REFRESH-INTERVAL:P1H
CALSCALE:GREGORIAN
BEGIN:VTIMEZONE
TZID:America/Chicago
BEGIN:DAYLIGHT
RRULE:FREQ=YEARLY;BYMONTH=3;BYDAY=2SU
DTSTART:20070101T000000
TZOFFSETFROM:-0600
TZOFFSETTO:-0500
TZNAME:Central Daylight Time
END:DAYLIGHT
BEGIN:STANDARD
RRULE:FREQ=YEARLY;BYMONTH=11;BYDAY=1SU
DTSTART:20070101T000000
TZOFFSETFROM:-0500
TZOFFSETTO:-0600
TZNAME:Central Standard Time
END:STANDARD
END:VTIMEZONE
BEGIN:VEVENT
DTSTART;TZID=America/Chicago:20260519T093000
DTEND;TZID=America/Chicago:20260519T113000
X-MICROSOFT-CDO-ALLDAYEVENT:FALSE
SUMMARY:In-Person CE (Mandeville) - A.I. Use for Real Estate Licensees (2 CE Credit Hours)
DESCRIPTION:A.I. Use for Real Estate Licensees (2hrs) - instruction by Crescent Title
X-ALT-DESC;FMTTYPE=text/html:A.I. Use for Real Estate Licensees (2hrs) - instruction by Crescent Title
LOCATION:830 West Causeway Approach Suite 101 Mandeville LA 70471
UID:e.1749.1449602
SEQUENCE:3
DTSTAMP:20260423T120206Z
URL:https://members.nabors.org/calendar/Details/in-person-ce-mandeville-a-i-use-for-real-estate-licensees-2-ce-credit-hours-1717075?sourceTypeId=Hub
END:VEVENT
END:VCALENDAR
